BEGIN:VCALENDAR
VERSION:2.0
PRODID:-//Evangelikale Freikirche Kapfenberg/Bruck - ECPv6.10.3//NONSGML v1.0//EN
CALSCALE:GREGORIAN
METHOD:PUBLISH
X-WR-CALNAME:Evangelikale Freikirche Kapfenberg/Bruck
X-ORIGINAL-URL:https://www.efk-kapfenberg.at
X-WR-CALDESC:Veranstaltungen für Evangelikale Freikirche Kapfenberg/Bruck
REFRESH-INTERVAL;VALUE=DURATION:PT1H
X-Robots-Tag:noindex
X-PUBLISHED-TTL:PT1H
BEGIN:VTIMEZONE
TZID:Europe/Berlin
BEGIN:DAYLIGHT
TZOFFSETFROM:+0100
TZOFFSETTO:+0200
TZNAME:CEST
DTSTART:20260329T010000
END:DAYLIGHT
BEGIN:STANDARD
TZOFFSETFROM:+0200
TZOFFSETTO:+0100
TZNAME:CET
DTSTART:20261025T010000
END:STANDARD
END:VTIMEZONE
BEGIN:VEVENT
DTSTART;TZID=Europe/Berlin:20260426T093000
DTEND;TZID=Europe/Berlin:20260426T110000
DTSTAMP:20260426T022834
CREATED:20260330T083538Z
LAST-MODIFIED:20260330T083538Z
UID:3219-1777195800-1777201200@www.efk-kapfenberg.at
SUMMARY:Gottesdienst mit Mahlfeier
DESCRIPTION:(Fairändern)
URL:https://www.efk-kapfenberg.at/event/gottesdienst-mit-mahlfeier-52/
LOCATION:EFK Kapfenberg/Bruck\, Grazerstraße 90\, Kapfenberg\, 8605\, Österreich
ORGANIZER;CN="Evangelikale Freikirche Kapfenberg/Bruck":MAILTO:info@efk-kapfenberg.at
END:VEVENT
END:VCALENDAR